BEGIN:VCALENDAR
VERSION:2.0
BEGIN:VEVENT
CATEGORIES:Category,Community Events,Category,Fine and Performing Arts,Category,Music Performances,Category,Student Events,Location,Connie Gotsch Theatre,featured,Yes
DESCRIPTION:Jazz Rocks! Enjoy the musical talents of our very own San Juan College Jazz Ensemble in their Spring 2026 Semester Performance, under the direction of John Patton. Admissions  General Public: $10 Student: FREE SJC Employees: FREE Senior/Encore/Military: $8  Buy Tickets Date May 3, 2026 Time 3:00 p.m. - 4:00 p.m. Location Connie Gotsch Theatre
DTSTAMP:20260425T100511
DTSTART:20260503T150000
DTEND:20260503T160000
LOCATION:Connie Gotsch Theatre
SUMMARY;LANGUAGE=en-us:Jazz Band
UID:54fe7ac9c0831dd99c600c58adf809ea@firelightadventures.com
END:VEVENT
END:VCALENDAR

