BEGIN:VCALENDAR
VERSION:2.0
BEGIN:VEVENT
CATEGORIES:Category,Community Events,Category,Student Events,Location,San Juan College Cultural Center (Parking Lot F),featured,Yes
DESCRIPTION:Let&rsquo;s Grow Something Together! Students, staff, and community members&mdash;claim your FREE tree seedling and be part of something bigger! Whether you're planting it at home, gifting it to a friend, or helping green up our community, this is your chance to make a lasting impact. Seedling Varieties Include:  Desert Willows English Oak Red Oak Burr Oak Small Northern Calalpa And other miscellaneous oaks!  Available while supplies last &mdash; one per person, first-come, first-served! Why? Because we&rsquo;re proud of our designation as a Tree Campus Higher Education since 2020 by the National Arbor Day Foundation.&nbsp;&nbsp; Come grab a tree. Plant the future. Date April 24, 2026 Time 8:00 a.m. - 10:00 a.m. Location San Juan College Cultural Center (Parking Lot F)
DTSTAMP:20260425T115226
DTSTART:20260424T080000
DTEND:20260424T100000
LOCATION:San Juan College Cultural Center (Parking Lot F)
SUMMARY;LANGUAGE=en-us:Arbor Day Tree Give-Away
UID:9e3f72e4a7a25724e8f2c4317093f1a4@firelightadventures.com
END:VEVENT
END:VCALENDAR

