BEGIN:VCALENDAR
VERSION:2.0
BEGIN:VEVENT
CATEGORIES:Category,Community Events,Category,Student Events,Location,Learning Commons Plaza,featured,Yes
DESCRIPTION:SJC Students, Time to Celebrate!&nbsp; All SJC Students will receive a SJC Shirt with their Student ID! This is a FREE event filled with  Music Food Prizes Games and more!  Participate in games and activities for entries into a prize drawing! Date Friday, May 8, 2026 Time 1:00 p.m. - 4:00 p.m. Location Learning Commons Plaza
DTSTAMP:20260425T102032
DTSTART:20260508T130000
DTEND:20260508T160000
LOCATION:Learning Commons Plaza
SUMMARY;LANGUAGE=en-us:Spring Bash
UID:743b77c8d34e16f7658aad3f3c34361a@firelightadventures.com
END:VEVENT
END:VCALENDAR

