BEGIN:VCALENDAR
VERSION:2.0
BEGIN:VEVENT
CATEGORIES:Category,Community Events,Category,Student Events,Location,On Campus,featured,Yes
DESCRIPTION:What Are Your Plans This Summer? Are you a NM resident between the ages of 18 to 25 and looking for a unique job opportunity this summer? Learn &amp; Earn Work on conservation, campus beautification, and trail maintenance projects and gain valuable training in:  First Aid CPR/AED Top Rope Belay Leave No Trace Financial Literacy Forklift &amp; Skid-steer Training Defensive Driving Chainsaw Basics  Get paid for an 8-hour day while building skills and certifications! View Jobs &amp; Apply Today! YCC Team Leader @ $16.44 per hour YCC Crew Member @ $15.50 per hour Dates June 1, 2026 - July 31, 2026 Location Campus Wide For more information, contact the Center for Student Careers &amp; Employment at 505-566-3423 or careerscenter@sanjuancollege.edu&nbsp;
DTSTAMP:20260425T120640
DTSTART:20260601T000000
DTEND:20260731T235900
LOCATION:On Campus
SUMMARY;LANGUAGE=en-us:SJC &amp; the New Mexico Youth Conservation Corps
UID:c4c5e85bfb337bcaf267fe73790fe396@firelightadventures.com
END:VEVENT
END:VCALENDAR

