BEGIN:VCALENDAR
VERSION:2.0
BEGIN:VEVENT
CATEGORIES:Category,Food for Thought,Category,Student Events,Location,San Juan College West Center, Kirtland, NM,featured,Yes
DESCRIPTION:Finals week is a stressful time of the semester and the Food for Thought program aims to bring positivity and ease some of that stress by providing students with a nutritious lunch. Date May 6, 2026 Time 12:00 p.m. - 1:30 p.m. Location San Juan College West Center, Kirtland, NM
DTSTAMP:20260425T100539
DTSTART:20260506T120000
DTEND:20260506T133000
LOCATION:San Juan College West Center, Kirtland, NM
SUMMARY;LANGUAGE=en-us:Food for Thought - Finals Lunch at West
UID:05c4f4bb4d2b80665d5f769eab84929a@firelightadventures.com
END:VEVENT
END:VCALENDAR

