BEGIN:VCALENDAR
VERSION:2.0
BEGIN:VEVENT
CATEGORIES:Category,Community Events,Category,Student Events,Location,SJC Makerspace,featured,Yes
DESCRIPTION:Time to Make and Create! Learn the basics of sewing while creating a credit card holder. Spots are limited, so be sure to call 505-566-3112 to reserve your seat.  Open to ages 12+ (if under 18, bring an adult)&nbsp; Dates May 8, 2026 &amp; May 9, 2026 Time 10:00 a.m. - 1:00 p.m. Location SJC Makerspace Where is The Big Idea Makerspace?&nbsp; You'll find us in the&nbsp;Quality Center for Business&nbsp;building at 5101 College Boulevard,&nbsp;between Cosmetology&nbsp;and the&nbsp;School of Energy buildings. Call 505-566-3112 for more information!
DTSTAMP:20260425T100539
DTSTART:20260508T100000
DTEND:20260508T130000
LOCATION:SJC Makerspace
SUMMARY;LANGUAGE=en-us:The Big Idea Makerspace Workshop: Card Holder Sewing Workshop
UID:874955e8abf60edd5ae2c44987adeff1@firelightadventures.com
END:VEVENT
END:VCALENDAR

