BEGIN:VCALENDAR
VERSION:2.0
BEGIN:VEVENT
CATEGORIES:Category,Community Events,Category,Student Events,Location,The Big Idea Makerspace,featured,Yes
DESCRIPTION:Why Knot Knit! Learn how to use a circular knitting machine to create a beanie in this fun workshop! We'll guide you through the basics of machine setup, yarn selection, and machine knitting techniques. Cost: Free!! Bring yarn scraps if you have them.&nbsp;Open to ages 12+ (if under 18, bring an adult) Dates &amp; Times to Drop in May 1, 2026 @ 4:00 p.m. - 6:00 p.m.May 8, 2026 @ 4:00 p.m. - 6:00 p.m.May 15, 2026 @ 4:00 p.m. - 6:00 p.m.May 22, 2026 @ 4:00 p.m. - 6:00 p.m.May 29, 2026 @ 4:00 p.m. - 6:00 p.m. Location The Big Idea Makerspace Where is The Big Idea Makerspace?&nbsp; You'll find us in the&nbsp;Quality Center for Business&nbsp;building at 5101 College Boulevard,&nbsp;between Cosmetology&nbsp;and the&nbsp;School of Energy buildings. Call 505-566-3112 for more information!
DTSTAMP:20260425T101851
DTSTART:20260501T160000
DTEND:20260501T180000
LOCATION:The Big Idea Makerspace
SUMMARY;LANGUAGE=en-us:The Big Idea Makerspace Workshop: Fiber Fridays Knitting
UID:02b8ec4d8cc17857dd76ce3202e312ac@firelightadventures.com
END:VEVENT
END:VCALENDAR

