BEGIN:VCALENDAR
VERSION:2.0
BEGIN:VEVENT
CATEGORIES:Category,Community Events,Category,Employee Events,Category,Student Events,Location,Sun's Lounge,featured,Yes
DESCRIPTION:25 Years Stronger: Looking Back, Moving Forward Resource table highlighting sexual assault awareness and available support services, including counseling, advocacy, SANE services, and community education programs. Information provided by Sexual Assault Services of Northwest New Mexico. Sponsored by: Student Resource Center Date April 29, 2026 Time 11:00 a.m. - 1:00 p.m. Location Sun's Lounge For information, email Becky Loev, loevr@sanjuancollege.edu or call (505) 566-4282 / (505) 5663378.
DTSTAMP:20260425T084259
DTSTART:20260429T110000
DTEND:20260429T130000
LOCATION:Sun's Lounge
SUMMARY;LANGUAGE=en-us:Sexual Assault Awareness
UID:e1baa7611cf3e246eba94b4dff7ee9fc@firelightadventures.com
END:VEVENT
END:VCALENDAR

